BEGIN:VCALENDAR
VERSION:2.0
PRODID:-//NAB - ECPv6.15.11//NONSGML v1.0//EN
CALSCALE:GREGORIAN
METHOD:PUBLISH
X-WR-CALNAME:NAB
X-ORIGINAL-URL:https://nab.org.uk
X-WR-CALDESC:Events for NAB
REFRESH-INTERVAL;VALUE=DURATION:PT1H
X-Robots-Tag:noindex
X-PUBLISHED-TTL:PT1H
BEGIN:VTIMEZONE
TZID:Europe/London
BEGIN:DAYLIGHT
TZOFFSETFROM:+0000
TZOFFSETTO:+0100
TZNAME:BST
DTSTART:20240331T010000
END:DAYLIGHT
BEGIN:STANDARD
TZOFFSETFROM:+0100
TZOFFSETTO:+0000
TZNAME:GMT
DTSTART:20241027T010000
END:STANDARD
BEGIN:DAYLIGHT
TZOFFSETFROM:+0000
TZOFFSETTO:+0100
TZNAME:BST
DTSTART:20250330T010000
END:DAYLIGHT
BEGIN:STANDARD
TZOFFSETFROM:+0100
TZOFFSETTO:+0000
TZNAME:GMT
DTSTART:20251026T010000
END:STANDARD
BEGIN:DAYLIGHT
TZOFFSETFROM:+0000
TZOFFSETTO:+0100
TZNAME:BST
DTSTART:20260329T010000
END:DAYLIGHT
BEGIN:STANDARD
TZOFFSETFROM:+0100
TZOFFSETTO:+0000
TZNAME:GMT
DTSTART:20261025T010000
END:STANDARD
BEGIN:DAYLIGHT
TZOFFSETFROM:+0000
TZOFFSETTO:+0100
TZNAME:BST
DTSTART:20270328T010000
END:DAYLIGHT
BEGIN:STANDARD
TZOFFSETFROM:+0100
TZOFFSETTO:+0000
TZNAME:GMT
DTSTART:20271031T010000
END:STANDARD
END:VTIMEZONE
BEGIN:VEVENT
DTSTART;TZID=Europe/London:20260415T140000
DTEND;TZID=Europe/London:20260415T160000
DTSTAMP:20260422T122008
CREATED:20260309T094201Z
LAST-MODIFIED:20260309T094300Z
UID:10001284-1776261600-1776268800@nab.org.uk
SUMMARY:Daventry Social Group
DESCRIPTION:[vc_row][vc_column offset=”vc_col-lg-offset-1 vc_col-lg-10″][vc_column_text css=””]Informal meet for coffee/lunch – Our groups enable people with sight loss to come together and build friendships\, share information and tips but most of all-enjoy themselves.\nWe are always looking for new members and if you would prefer\, you can come along with a family member or friend for support. \nIf you’re interested in coming along please book in using the form below. \n[/vc_column_text][/vc_column][/vc_row]
URL:https://nab.org.uk/events/daventry-social-group-2/2026-04-15/
LOCATION:St Crispin Retirement Villiage\, St Crispin Retirement Villiage\, St Crispin Drive\, Upton\, NN5 4RA\, United Kingdom
CATEGORIES:Social Group
ATTACH;FMTTYPE=image/jpeg:https://nab.org.uk/wp-content/uploads/nab-luncheon-featured.jpg
END:VEVENT
BEGIN:VEVENT
DTSTART;TZID=Europe/London:20260318T140000
DTEND;TZID=Europe/London:20260318T160000
DTSTAMP:20260422T122008
CREATED:20260309T094201Z
LAST-MODIFIED:20260309T094300Z
UID:10000218-1773842400-1773849600@nab.org.uk
SUMMARY:Daventry Social Group
DESCRIPTION:[vc_row][vc_column offset=”vc_col-lg-offset-1 vc_col-lg-10″][vc_column_text css=””]Informal meet for coffee/lunch – Our groups enable people with sight loss to come together and build friendships\, share information and tips but most of all-enjoy themselves.\nWe are always looking for new members and if you would prefer\, you can come along with a family member or friend for support. \nIf you’re interested in coming along please book in using the form below. \n[/vc_column_text][/vc_column][/vc_row]
URL:https://nab.org.uk/events/daventry-social-group-2/2026-03-18/
LOCATION:St Crispin Retirement Villiage\, St Crispin Retirement Villiage\, St Crispin Drive\, Upton\, NN5 4RA\, United Kingdom
CATEGORIES:Social Group
ATTACH;FMTTYPE=image/jpeg:https://nab.org.uk/wp-content/uploads/nab-luncheon-featured.jpg
END:VEVENT
BEGIN:VEVENT
DTSTART;TZID=Europe/London:20260210T120000
DTEND;TZID=Europe/London:20260210T140000
DTSTAMP:20260422T122008
CREATED:20240715T103122Z
LAST-MODIFIED:20250113T145103Z
UID:10000217-1770724800-1770732000@nab.org.uk
SUMMARY:Daventry Social Group
DESCRIPTION:[vc_row][vc_column offset=”vc_col-lg-offset-1 vc_col-lg-10″][vc_column_text css=””]Informal meet for coffee/lunch – Our groups enable people with sight loss to come together and build friendships\, share information and tips but most of all-enjoy themselves.\nWe are always looking for new members and if you would prefer\, you can come along with a family member or friend for support. \nIf you’re interested in coming along please book in using the form below. \n[/vc_column_text][/vc_column][/vc_row]
URL:https://nab.org.uk/events/daventry-social-group/2026-02-10/
LOCATION:Queen of Hearts\, Queen of Hearts\, Wimborne Place\, Daventry\, Northamptonshire\, NN11 0XY\, United Kingdom
CATEGORIES:Social Group
ATTACH;FMTTYPE=image/jpeg:https://nab.org.uk/wp-content/uploads/nab-luncheon-featured.jpg
END:VEVENT
BEGIN:VEVENT
DTSTART;TZID=Europe/London:20260113T120000
DTEND;TZID=Europe/London:20260113T140000
DTSTAMP:20260422T122008
CREATED:20240715T103122Z
LAST-MODIFIED:20250113T145103Z
UID:10000216-1768305600-1768312800@nab.org.uk
SUMMARY:Daventry Social Group
DESCRIPTION:[vc_row][vc_column offset=”vc_col-lg-offset-1 vc_col-lg-10″][vc_column_text css=””]Informal meet for coffee/lunch – Our groups enable people with sight loss to come together and build friendships\, share information and tips but most of all-enjoy themselves.\nWe are always looking for new members and if you would prefer\, you can come along with a family member or friend for support. \nIf you’re interested in coming along please book in using the form below. \n[/vc_column_text][/vc_column][/vc_row]
URL:https://nab.org.uk/events/daventry-social-group/2026-01-13/
LOCATION:Queen of Hearts\, Queen of Hearts\, Wimborne Place\, Daventry\, Northamptonshire\, NN11 0XY\, United Kingdom
CATEGORIES:Social Group
ATTACH;FMTTYPE=image/jpeg:https://nab.org.uk/wp-content/uploads/nab-luncheon-featured.jpg
END:VEVENT
BEGIN:VEVENT
DTSTART;TZID=Europe/London:20251209T120000
DTEND;TZID=Europe/London:20251209T140000
DTSTAMP:20260422T122008
CREATED:20240715T103122Z
LAST-MODIFIED:20250113T145103Z
UID:10000215-1765281600-1765288800@nab.org.uk
SUMMARY:Daventry Social Group
DESCRIPTION:[vc_row][vc_column offset=”vc_col-lg-offset-1 vc_col-lg-10″][vc_column_text css=””]Informal meet for coffee/lunch – Our groups enable people with sight loss to come together and build friendships\, share information and tips but most of all-enjoy themselves.\nWe are always looking for new members and if you would prefer\, you can come along with a family member or friend for support. \nIf you’re interested in coming along please book in using the form below. \n[/vc_column_text][/vc_column][/vc_row]
URL:https://nab.org.uk/events/daventry-social-group/2025-12-09/
LOCATION:Queen of Hearts\, Queen of Hearts\, Wimborne Place\, Daventry\, Northamptonshire\, NN11 0XY\, United Kingdom
CATEGORIES:Social Group
ATTACH;FMTTYPE=image/jpeg:https://nab.org.uk/wp-content/uploads/nab-luncheon-featured.jpg
END:VEVENT
BEGIN:VEVENT
DTSTART;TZID=Europe/London:20251111T120000
DTEND;TZID=Europe/London:20251111T140000
DTSTAMP:20260422T122008
CREATED:20240715T103122Z
LAST-MODIFIED:20250113T145103Z
UID:10000214-1762862400-1762869600@nab.org.uk
SUMMARY:Daventry Social Group
DESCRIPTION:[vc_row][vc_column offset=”vc_col-lg-offset-1 vc_col-lg-10″][vc_column_text css=””]Informal meet for coffee/lunch – Our groups enable people with sight loss to come together and build friendships\, share information and tips but most of all-enjoy themselves.\nWe are always looking for new members and if you would prefer\, you can come along with a family member or friend for support. \nIf you’re interested in coming along please book in using the form below. \n[/vc_column_text][/vc_column][/vc_row]
URL:https://nab.org.uk/events/daventry-social-group/2025-11-11/
LOCATION:Queen of Hearts\, Queen of Hearts\, Wimborne Place\, Daventry\, Northamptonshire\, NN11 0XY\, United Kingdom
CATEGORIES:Social Group
ATTACH;FMTTYPE=image/jpeg:https://nab.org.uk/wp-content/uploads/nab-luncheon-featured.jpg
END:VEVENT
BEGIN:VEVENT
DTSTART;TZID=Europe/London:20251014T120000
DTEND;TZID=Europe/London:20251014T140000
DTSTAMP:20260422T122008
CREATED:20240715T103122Z
LAST-MODIFIED:20250113T145103Z
UID:10000213-1760443200-1760450400@nab.org.uk
SUMMARY:Daventry Social Group
DESCRIPTION:[vc_row][vc_column offset=”vc_col-lg-offset-1 vc_col-lg-10″][vc_column_text css=””]Informal meet for coffee/lunch – Our groups enable people with sight loss to come together and build friendships\, share information and tips but most of all-enjoy themselves.\nWe are always looking for new members and if you would prefer\, you can come along with a family member or friend for support. \nIf you’re interested in coming along please book in using the form below. \n[/vc_column_text][/vc_column][/vc_row]
URL:https://nab.org.uk/events/daventry-social-group/2025-10-14/
LOCATION:Queen of Hearts\, Queen of Hearts\, Wimborne Place\, Daventry\, Northamptonshire\, NN11 0XY\, United Kingdom
CATEGORIES:Social Group
ATTACH;FMTTYPE=image/jpeg:https://nab.org.uk/wp-content/uploads/nab-luncheon-featured.jpg
END:VEVENT
BEGIN:VEVENT
DTSTART;TZID=Europe/London:20250909T120000
DTEND;TZID=Europe/London:20250909T140000
DTSTAMP:20260422T122008
CREATED:20240715T103122Z
LAST-MODIFIED:20250113T145103Z
UID:10000212-1757419200-1757426400@nab.org.uk
SUMMARY:Daventry Social Group
DESCRIPTION:[vc_row][vc_column offset=”vc_col-lg-offset-1 vc_col-lg-10″][vc_column_text css=””]Informal meet for coffee/lunch – Our groups enable people with sight loss to come together and build friendships\, share information and tips but most of all-enjoy themselves.\nWe are always looking for new members and if you would prefer\, you can come along with a family member or friend for support. \nIf you’re interested in coming along please book in using the form below. \n[/vc_column_text][/vc_column][/vc_row]
URL:https://nab.org.uk/events/daventry-social-group/2025-09-09/
LOCATION:Queen of Hearts\, Queen of Hearts\, Wimborne Place\, Daventry\, Northamptonshire\, NN11 0XY\, United Kingdom
CATEGORIES:Social Group
ATTACH;FMTTYPE=image/jpeg:https://nab.org.uk/wp-content/uploads/nab-luncheon-featured.jpg
END:VEVENT
BEGIN:VEVENT
DTSTART;TZID=Europe/London:20250812T120000
DTEND;TZID=Europe/London:20250812T140000
DTSTAMP:20260422T122008
CREATED:20240715T103122Z
LAST-MODIFIED:20250113T145103Z
UID:10000211-1755000000-1755007200@nab.org.uk
SUMMARY:Daventry Social Group
DESCRIPTION:[vc_row][vc_column offset=”vc_col-lg-offset-1 vc_col-lg-10″][vc_column_text css=””]Informal meet for coffee/lunch – Our groups enable people with sight loss to come together and build friendships\, share information and tips but most of all-enjoy themselves.\nWe are always looking for new members and if you would prefer\, you can come along with a family member or friend for support. \nIf you’re interested in coming along please book in using the form below. \n[/vc_column_text][/vc_column][/vc_row]
URL:https://nab.org.uk/events/daventry-social-group/2025-08-12/
LOCATION:Queen of Hearts\, Queen of Hearts\, Wimborne Place\, Daventry\, Northamptonshire\, NN11 0XY\, United Kingdom
CATEGORIES:Social Group
ATTACH;FMTTYPE=image/jpeg:https://nab.org.uk/wp-content/uploads/nab-luncheon-featured.jpg
END:VEVENT
BEGIN:VEVENT
DTSTART;TZID=Europe/London:20250708T120000
DTEND;TZID=Europe/London:20250708T140000
DTSTAMP:20260422T122008
CREATED:20240715T103122Z
LAST-MODIFIED:20250113T145103Z
UID:10000210-1751976000-1751983200@nab.org.uk
SUMMARY:Daventry Social Group
DESCRIPTION:[vc_row][vc_column offset=”vc_col-lg-offset-1 vc_col-lg-10″][vc_column_text css=””]Informal meet for coffee/lunch – Our groups enable people with sight loss to come together and build friendships\, share information and tips but most of all-enjoy themselves.\nWe are always looking for new members and if you would prefer\, you can come along with a family member or friend for support. \nIf you’re interested in coming along please book in using the form below. \n[/vc_column_text][/vc_column][/vc_row]
URL:https://nab.org.uk/events/daventry-social-group/2025-07-08/
LOCATION:Queen of Hearts\, Queen of Hearts\, Wimborne Place\, Daventry\, Northamptonshire\, NN11 0XY\, United Kingdom
CATEGORIES:Social Group
ATTACH;FMTTYPE=image/jpeg:https://nab.org.uk/wp-content/uploads/nab-luncheon-featured.jpg
END:VEVENT
BEGIN:VEVENT
DTSTART;TZID=Europe/London:20250610T120000
DTEND;TZID=Europe/London:20250610T140000
DTSTAMP:20260422T122008
CREATED:20240715T103122Z
LAST-MODIFIED:20250113T145103Z
UID:10000209-1749556800-1749564000@nab.org.uk
SUMMARY:Daventry Social Group
DESCRIPTION:[vc_row][vc_column offset=”vc_col-lg-offset-1 vc_col-lg-10″][vc_column_text css=””]Informal meet for coffee/lunch – Our groups enable people with sight loss to come together and build friendships\, share information and tips but most of all-enjoy themselves.\nWe are always looking for new members and if you would prefer\, you can come along with a family member or friend for support. \nIf you’re interested in coming along please book in using the form below. \n[/vc_column_text][/vc_column][/vc_row]
URL:https://nab.org.uk/events/daventry-social-group/2025-06-10/
LOCATION:Queen of Hearts\, Queen of Hearts\, Wimborne Place\, Daventry\, Northamptonshire\, NN11 0XY\, United Kingdom
CATEGORIES:Social Group
ATTACH;FMTTYPE=image/jpeg:https://nab.org.uk/wp-content/uploads/nab-luncheon-featured.jpg
END:VEVENT
BEGIN:VEVENT
DTSTART;TZID=Europe/London:20250513T120000
DTEND;TZID=Europe/London:20250513T140000
DTSTAMP:20260422T122008
CREATED:20240715T103122Z
LAST-MODIFIED:20250113T145103Z
UID:10000208-1747137600-1747144800@nab.org.uk
SUMMARY:Daventry Social Group
DESCRIPTION:[vc_row][vc_column offset=”vc_col-lg-offset-1 vc_col-lg-10″][vc_column_text css=””]Informal meet for coffee/lunch – Our groups enable people with sight loss to come together and build friendships\, share information and tips but most of all-enjoy themselves.\nWe are always looking for new members and if you would prefer\, you can come along with a family member or friend for support. \nIf you’re interested in coming along please book in using the form below. \n[/vc_column_text][/vc_column][/vc_row]
URL:https://nab.org.uk/events/daventry-social-group/2025-05-13/
LOCATION:Queen of Hearts\, Queen of Hearts\, Wimborne Place\, Daventry\, Northamptonshire\, NN11 0XY\, United Kingdom
CATEGORIES:Social Group
ATTACH;FMTTYPE=image/jpeg:https://nab.org.uk/wp-content/uploads/nab-luncheon-featured.jpg
END:VEVENT
BEGIN:VEVENT
DTSTART;TZID=Europe/London:20250408T120000
DTEND;TZID=Europe/London:20250408T140000
DTSTAMP:20260422T122008
CREATED:20240715T103122Z
LAST-MODIFIED:20250113T145103Z
UID:10000207-1744113600-1744120800@nab.org.uk
SUMMARY:Daventry Social Group
DESCRIPTION:[vc_row][vc_column offset=”vc_col-lg-offset-1 vc_col-lg-10″][vc_column_text css=””]Informal meet for coffee/lunch – Our groups enable people with sight loss to come together and build friendships\, share information and tips but most of all-enjoy themselves.\nWe are always looking for new members and if you would prefer\, you can come along with a family member or friend for support. \nIf you’re interested in coming along please book in using the form below. \n[/vc_column_text][/vc_column][/vc_row]
URL:https://nab.org.uk/events/daventry-social-group/2025-04-08/
LOCATION:Queen of Hearts\, Queen of Hearts\, Wimborne Place\, Daventry\, Northamptonshire\, NN11 0XY\, United Kingdom
CATEGORIES:Social Group
ATTACH;FMTTYPE=image/jpeg:https://nab.org.uk/wp-content/uploads/nab-luncheon-featured.jpg
END:VEVENT
BEGIN:VEVENT
DTSTART;TZID=Europe/London:20250311T120000
DTEND;TZID=Europe/London:20250311T140000
DTSTAMP:20260422T122008
CREATED:20240715T103122Z
LAST-MODIFIED:20250113T145103Z
UID:10000206-1741694400-1741701600@nab.org.uk
SUMMARY:Daventry Social Group
DESCRIPTION:[vc_row][vc_column offset=”vc_col-lg-offset-1 vc_col-lg-10″][vc_column_text css=””]Informal meet for coffee/lunch – Our groups enable people with sight loss to come together and build friendships\, share information and tips but most of all-enjoy themselves.\nWe are always looking for new members and if you would prefer\, you can come along with a family member or friend for support. \nIf you’re interested in coming along please book in using the form below. \n[/vc_column_text][/vc_column][/vc_row]
URL:https://nab.org.uk/events/daventry-social-group/2025-03-11/
LOCATION:Queen of Hearts\, Queen of Hearts\, Wimborne Place\, Daventry\, Northamptonshire\, NN11 0XY\, United Kingdom
CATEGORIES:Social Group
ATTACH;FMTTYPE=image/jpeg:https://nab.org.uk/wp-content/uploads/nab-luncheon-featured.jpg
END:VEVENT
BEGIN:VEVENT
DTSTART;TZID=Europe/London:20250211T120000
DTEND;TZID=Europe/London:20250211T140000
DTSTAMP:20260422T122008
CREATED:20240715T103122Z
LAST-MODIFIED:20250113T145103Z
UID:10000205-1739275200-1739282400@nab.org.uk
SUMMARY:Daventry Social Group
DESCRIPTION:[vc_row][vc_column offset=”vc_col-lg-offset-1 vc_col-lg-10″][vc_column_text css=””]Informal meet for coffee/lunch – Our groups enable people with sight loss to come together and build friendships\, share information and tips but most of all-enjoy themselves.\nWe are always looking for new members and if you would prefer\, you can come along with a family member or friend for support. \nIf you’re interested in coming along please book in using the form below. \n[/vc_column_text][/vc_column][/vc_row]
URL:https://nab.org.uk/events/daventry-social-group/2025-02-11/
LOCATION:Queen of Hearts\, Queen of Hearts\, Wimborne Place\, Daventry\, Northamptonshire\, NN11 0XY\, United Kingdom
CATEGORIES:Social Group
ATTACH;FMTTYPE=image/jpeg:https://nab.org.uk/wp-content/uploads/nab-luncheon-featured.jpg
END:VEVENT
BEGIN:VEVENT
DTSTART;TZID=Europe/London:20250114T120000
DTEND;TZID=Europe/London:20250114T140000
DTSTAMP:20260422T122008
CREATED:20240715T103122Z
LAST-MODIFIED:20250113T145103Z
UID:10000204-1736856000-1736863200@nab.org.uk
SUMMARY:Daventry Social Group
DESCRIPTION:[vc_row][vc_column offset=”vc_col-lg-offset-1 vc_col-lg-10″][vc_column_text css=””]Informal meet for coffee/lunch – Our groups enable people with sight loss to come together and build friendships\, share information and tips but most of all-enjoy themselves.\nWe are always looking for new members and if you would prefer\, you can come along with a family member or friend for support. \nIf you’re interested in coming along please book in using the form below. \n[/vc_column_text][/vc_column][/vc_row]
URL:https://nab.org.uk/events/daventry-social-group/2025-01-14/
LOCATION:Queen of Hearts\, Queen of Hearts\, Wimborne Place\, Daventry\, Northamptonshire\, NN11 0XY\, United Kingdom
CATEGORIES:Social Group
ATTACH;FMTTYPE=image/jpeg:https://nab.org.uk/wp-content/uploads/nab-luncheon-featured.jpg
END:VEVENT
END:VCALENDAR